BEGIN:VCALENDAR
VERSION:2.0
PRODID:-//Plone.org//NONSGML plone.app.event//EN
X-WR-TIMEZONE:Europe/Berlin
BEGIN:VEVENT
SUMMARY:Your Science as a Board Game: Beginner's Workshop in Game Design
DTSTART:20260428T100000
DTEND:20260428T170000
DTSTAMP:20260423T073751Z
UID:6a66410cb8b24158bc0d506e41cac87a@www.uni-bonn.de
CREATED:20260326T140158Z
DESCRIPTION:A workshop offered by Transfer Center enaCom and Bonn Graduate
  Center.\n\nIn this workshop\, you'll learn the basics of game design and 
 explore creative ways to communicate your science through play. No prior e
 xperience needed—just your curiosity and passion for your research. Coll
 aborate\, prototype\, and test your own science-based board game. Let your
  ideas move from the lab to the table!\n\nThis workshop for PhD students/P
 ostDocs is part of the Doctorate/Careers plus program and units can be acq
 uired.
LAST-MODIFIED:20260326T150943Z
URL:https://www.uni-bonn.de/en/events/your-science-as-a-board-game-beginne
 rs-workshop-in-game-design-1
END:VEVENT
BEGIN:VTIMEZONE
TZID:Europe/Berlin
X-LIC-LOCATION:Europe/Berlin
BEGIN:DAYLIGHT
DTSTART:20260329T030000
TZNAME:CEST
TZOFFSETFROM:+0100
TZOFFSETTO:+0200
END:DAYLIGHT
END:VTIMEZONE
END:VCALENDAR
