BEGIN:VCALENDAR
VERSION:2.0
PRODID:-//Plone.org//NONSGML plone.app.event//EN
X-WR-TIMEZONE:Europe/Berlin
BEGIN:VEVENT
SUMMARY:Your Research Has Value – Explore Its Potential Using LEGO and A
 I
DTSTART:20260210T100000
DTEND:20260210T160000
DTSTAMP:20260421T053130Z
UID:756bd356bf824ae7901a484c20adba76@www.uni-bonn.de
CREATED:20251007T101441Z
DESCRIPTION:A workshop offered by Transfer Center enaCom and Bonn Graduate
  Center\n\nYour research has value – this workshop helps you explore wha
 t that could mean beyond academia.\n\nUsing LEGO® Serious Play and OpenAI
  ChatGPT\, you'll prototype real-world applications of your work in a crea
 tive\, hands-on format.\n\nStarting a business is one possible outcome –
  but not the only one.\n\nNo prior business knowledge needed – just curi
 osity and openness to new directions.\n\nThis workshop for PhD students/Po
 stDocs is part of the Bonn Doctorate plus program and units can be acquire
 d.
LAST-MODIFIED:20251008T060118Z
URL:https://www.uni-bonn.de/en/events/your-research-has-value-explore-its-
 potential-using-lego-and-ai
END:VEVENT
BEGIN:VTIMEZONE
TZID:Europe/Berlin
X-LIC-LOCATION:Europe/Berlin
BEGIN:STANDARD
DTSTART:20251026T020000
TZNAME:CET
TZOFFSETFROM:+0200
TZOFFSETTO:+0100
END:STANDARD
END:VTIMEZONE
END:VCALENDAR
