BEGIN:VCALENDAR
VERSION:2.0
PRODID:-//Plone.org//NONSGML plone.app.event//EN
X-WR-TIMEZONE:Europe/Berlin
BEGIN:VEVENT
SUMMARY:Worldcreation: On the Power of Accessibility
DTSTART:20250625T180000
DTEND:20250625T193000
DTSTAMP:20260422T203500Z
UID:6b53137da24c424398987c0dd0c55c56@www.uni-bonn.de
CREATED:20250414T120723Z
DESCRIPTION:Every modern democratic political theory assumes its citizens 
 to hold certain rights. But rights are meaningless without the access to e
 xercise them. This talk will explore what it means to take accessibility a
 s central to all inquiry—inquiry spanning the humanities\, social scienc
 es\, and life sciences—concerning humans as free\, yet always socially-e
 mbedded organisms. Drawing upon research in disability studies over the la
 st fifty-plus years\, Joel M. Reynolds argues that (i) the foundational pr
 inciple of all freedom-based social organization is accessibility and (ii)
  the value of human rights as a framework to ensure the freedom of individ
 uals can only be realized through embodied rights.
LAST-MODIFIED:20250906T012238Z
URL:https://www.uni-bonn.de/en/events/worldcreation-on-the-power-of-access
 ibility
END:VEVENT
BEGIN:VTIMEZONE
TZID:Europe/Berlin
X-LIC-LOCATION:Europe/Berlin
BEGIN:DAYLIGHT
DTSTART:20250330T030000
TZNAME:CEST
TZOFFSETFROM:+0100
TZOFFSETTO:+0200
END:DAYLIGHT
END:VTIMEZONE
END:VCALENDAR
