BEGIN:VCALENDAR
VERSION:2.0
PRODID:-//Plone.org//NONSGML plone.app.event//EN
X-WR-TIMEZONE:Europe/Berlin
BEGIN:VEVENT
SUMMARY:Workshop "Unconscious bias in appointment committees"
DTSTART:20250410T130000
DTEND:20250410T160000
DTSTAMP:20260423T020211Z
UID:a261ada867074cf2a509e496c786facb@www.uni-bonn.de
CREATED:20250320T103734Z
DESCRIPTION:The workshop is aimed at members of current or future appointm
 ent committees. All status groups are addressed\, especially professors. T
 he event is based on an anti-bias approach and guides participants to refl
 ect on their unconscious assumptions in order to consciously shape their p
 rofessional role. The workshop is designed to be interactive and includes 
 a mix of theoretical input\, discussion\, individual and group exercises.
LAST-MODIFIED:20250906T034100Z
URL:https://www.uni-bonn.de/en/events/workshop-unconscious-bias-in-appoint
 ment-committees
END:VEVENT
BEGIN:VTIMEZONE
TZID:Europe/Berlin
X-LIC-LOCATION:Europe/Berlin
BEGIN:DAYLIGHT
DTSTART:20250330T030000
TZNAME:CEST
TZOFFSETFROM:+0100
TZOFFSETTO:+0200
END:DAYLIGHT
END:VTIMEZONE
END:VCALENDAR
