BEGIN:VCALENDAR
VERSION:2.0
PRODID:-//Plone.org//NONSGML plone.app.event//EN
X-WR-TIMEZONE:Europe/Berlin
BEGIN:VEVENT
SUMMARY:Welcome Days: Studying as a Degree-Seeking International Student
DTSTART;TZID=Europe/Berlin:20260326T130000
DTEND;TZID=Europe/Berlin:20260326T140000
DTSTAMP:20260420T080753Z
UID:fd0b886e90ab470fb7d9e4bc41bba220@www.uni-bonn.de
CATEGORIES:International Office,6.3,Campus International,Welcome Days,Stud
 ierende,International
CREATED:20250123T092607Z
DESCRIPTION:As a new international student\, you will learn many important
  things about your studies from the Central Study Advisory and Counseling 
 Service (ZSB) in this event\, which will simplify the start of your studie
 s at the University of Bonn. You will also have the opportunity to ask que
 stions. (Welcome Days)\n\nThe Zoom link will be published in the morning o
 f the event.
LAST-MODIFIED:20260326T065119Z
URL:https://www.uni-bonn.de/en/events/welcome-days-degree-seeking-students
END:VEVENT
BEGIN:VTIMEZONE
TZID:Europe/Berlin
X-LIC-LOCATION:Europe/Berlin
BEGIN:STANDARD
DTSTART:20251026T020000
TZNAME:CET
TZOFFSETFROM:+0200
TZOFFSETTO:+0100
END:STANDARD
END:VTIMEZONE
END:VCALENDAR
