BEGIN:VCALENDAR
VERSION:2.0
PRODID:-//Plone.org//NONSGML plone.app.event//EN
X-WR-TIMEZONE:Europe/Berlin
BEGIN:VEVENT
SUMMARY:Weihnachtskonzert des Internationalen Chores
DTSTART;TZID=Europe/Berlin:20231218T203000
DTEND;TZID=Europe/Berlin:20231218T213000
DTSTAMP:20260422T165806Z
UID:828c025349c14b7b817f58dd69aedfa5@www.uni-bonn.de
CATEGORIES:International Office,Campus International
CREATED:20231025T121841Z
DESCRIPTION:Herzliche Einladung zum Weihnachtskonzert des Internationalen 
 Chores der Universität Bonn.  \nSänger*innen aus 23 Ländern präsentier
 en Lieder aus aller Welt. Der Eintritt ist frei.
LAST-MODIFIED:20250906T003106Z
URL:https://www.uni-bonn.de/en/events/weihnachtskonzert-des-internationale
 n-chores
END:VEVENT
BEGIN:VTIMEZONE
TZID:Europe/Berlin
X-LIC-LOCATION:Europe/Berlin
BEGIN:STANDARD
DTSTART:20231029T020000
TZNAME:CET
TZOFFSETFROM:+0200
TZOFFSETTO:+0100
END:STANDARD
END:VTIMEZONE
END:VCALENDAR
