BEGIN:VCALENDAR
VERSION:2.0
PRODID:-//Plone.org//NONSGML plone.app.event//EN
X-WR-TIMEZONE:Europe/Berlin
BEGIN:VEVENT
SUMMARY:Unlock Your Inner Sciencepreneur: A LEGO® Serious Play Workshop
DTSTART:20250828T100000
DTEND:20250828T143000
DTSTAMP:20260424T040424Z
UID:6fad59b791e74fa3a5d82330ccda60c0@www.uni-bonn.de
CREATED:20250618T071024Z
DESCRIPTION:A workshop offered by Transfer Center enaCom and Bonn Graduate
  Center\n\nUsing the power of LEGO® Serious Play\, we will delve into the
  world of ‘Sciencepreneurship\,’ discovering your unique strengths as 
 a scientist and exploring how entrepreneurial behaviors can enhance both y
 our personal and professional growth. These insights will help you harness
  your creativity and increase your productivity paving the way for a succe
 ssful career in the corporate world\, as a founder\, or in science.\n\nThi
 s workshop for PhD students/PostDocs is part of the Bonn Doctorate plus pr
 ogram and units can be acquired.
LAST-MODIFIED:20250906T032121Z
URL:https://www.uni-bonn.de/en/events/unlock-your-inner-sciencepreneur-a-l
 ego-r-serious-play-workshop-3
END:VEVENT
BEGIN:VTIMEZONE
TZID:Europe/Berlin
X-LIC-LOCATION:Europe/Berlin
BEGIN:DAYLIGHT
DTSTART:20250330T030000
TZNAME:CEST
TZOFFSETFROM:+0100
TZOFFSETTO:+0200
END:DAYLIGHT
END:VTIMEZONE
END:VCALENDAR
