BEGIN:VCALENDAR
VERSION:2.0
PRODID:-//Plone.org//NONSGML plone.app.event//EN
X-WR-TIMEZONE:Europe/Berlin
BEGIN:VEVENT
SUMMARY:Unlock Your Inner Sciencepreneur: A LEGO® Serious Play Workshop
DTSTART:20241126T100000
DTEND:20241126T143000
DTSTAMP:20260424T063233Z
UID:305c125937914b8c942523a34cebd13a@www.uni-bonn.de
CREATED:20240923T143540Z
DESCRIPTION:A workshop offered by the Transfer Center enaCom and Bonn Grad
 uate Center\n\nUsing the power of LEGO® Serious Play\, we will delve into
  the world of ‘Sciencepreneurship\,’ discovering your unique strengths
  as a scientist and exploring how entrepreneurial behaviors can enhance bo
 th your personal and professional growth. These insights will help you har
 ness your creativity and increase your productivity paving the way for a s
 uccessful career in the corporate world\, as a founder\, or in science.\n\
 nThis workshop for PhD students/PostDocs is part of the Bonn Doctorate plu
 s program and units can be acquired.
LAST-MODIFIED:20250906T003315Z
URL:https://www.uni-bonn.de/en/events/unlock-your-inner-sciencepreneur-a-l
 ego-r-serious-play-workshop-1
END:VEVENT
BEGIN:VTIMEZONE
TZID:Europe/Berlin
X-LIC-LOCATION:Europe/Berlin
BEGIN:STANDARD
DTSTART:20241027T020000
TZNAME:CET
TZOFFSETFROM:+0200
TZOFFSETTO:+0100
END:STANDARD
END:VTIMEZONE
END:VCALENDAR
