BEGIN:VCALENDAR
VERSION:2.0
PRODID:-//Plone.org//NONSGML plone.app.event//EN
X-WR-TIMEZONE:Europe/Berlin
BEGIN:VEVENT
SUMMARY:The Armed Man: A Mass for Peace
DTSTART;TZID=Europe/Berlin:20260201T200000
DTEND;TZID=Europe/Berlin:20260201T223000
DTSTAMP:20260423T020206Z
UID:0e6c506295324c6da86af4b1fedcd49c@www.uni-bonn.de
CREATED:20251215T152432Z
DESCRIPTION:Der Chor des Collegium musicum und das Akademische Orchester f
 reuen sich sehr\, Ihnen Karl Jenkins "The armed man: a mass for peace" am 
 31.01. sowie 01.02.2026 in der Aula der Universität Bonn zu präsentieren
 . \n\nTicketreservierungen werden empfohlen und sind ab dem 15.12.2026 mö
 glich
LAST-MODIFIED:20251215T162908Z
URL:https://www.uni-bonn.de/en/events/the-armed-man-a-mass-for-peace-1
END:VEVENT
BEGIN:VTIMEZONE
TZID:Europe/Berlin
X-LIC-LOCATION:Europe/Berlin
BEGIN:STANDARD
DTSTART:20251026T020000
TZNAME:CET
TZOFFSETFROM:+0200
TZOFFSETTO:+0100
END:STANDARD
END:VTIMEZONE
END:VCALENDAR
