BEGIN:VCALENDAR
VERSION:2.0
PRODID:-//Plone.org//NONSGML plone.app.event//EN
X-WR-TIMEZONE:Europe/Berlin
BEGIN:VEVENT
SUMMARY:SYNERGY FORUM
DTSTART;TZID=Europe/Berlin:20260210T090000
DTEND;TZID=Europe/Berlin:20260210T130000
DTSTAMP:20260419T155227Z
UID:eca43bbfcf5942d28289ab06fec6e618@www.uni-bonn.de
CREATED:20260114T103831Z
DESCRIPTION:First SYNERGY FORUM - a networking event designed to bring tog
 ether researchers from across faculties and spark unexpected\, interdiscip
 linary collaborations.\nThe guiding theme of this inaugural event is "grow
 th". We invite you to share your perspective on what "growth" means in you
 r field - whether through a short talk or by joining our academic speed da
 ting session. Connect\, exchange ideas and get inspired to build new colla
 borations.
LAST-MODIFIED:20260114T132428Z
URL:https://www.uni-bonn.de/en/events/synergy-forum
END:VEVENT
BEGIN:VTIMEZONE
TZID:Europe/Berlin
X-LIC-LOCATION:Europe/Berlin
BEGIN:STANDARD
DTSTART:20251026T020000
TZNAME:CET
TZOFFSETFROM:+0200
TZOFFSETTO:+0100
END:STANDARD
END:VTIMEZONE
END:VCALENDAR
