BEGIN:VCALENDAR
VERSION:2.0
PRODID:-//Plone.org//NONSGML plone.app.event//EN
X-WR-TIMEZONE:Europe/Berlin
BEGIN:VEVENT
SUMMARY:Starke Stimmen für Lehrende
DTSTART:20260121T090000
DTEND:20260121T170000
DTSTAMP:20260422T204702Z
UID:f484e57cdfa24e76a406aac06264ff90@www.uni-bonn.de
CREATED:20250730T135148Z
DESCRIPTION:Bei diesem Workshop handelt es sich um eine Veranstaltung im R
 ahmen des hochschuldidaktischen Qualifizierungsprogramms des Bonner Zentru
 ms für Hochschullehre (BZH). Den detaillierten Veranstaltungskommentar en
 tnehmen Sie bitte unseren Internetseiten. Die hochschuldidaktischen Worksh
 ops des BZH stehen allen Lehrenden der Universität Bonn offen\; eine vorh
 erige Anmeldung über unser Online-Anmeldeformular ist erforderlich!
LAST-MODIFIED:20250906T032307Z
URL:https://www.uni-bonn.de/en/events/starke-stimmen-fuer-lehrende
END:VEVENT
BEGIN:VTIMEZONE
TZID:Europe/Berlin
X-LIC-LOCATION:Europe/Berlin
BEGIN:STANDARD
DTSTART:20251026T020000
TZNAME:CET
TZOFFSETFROM:+0200
TZOFFSETTO:+0100
END:STANDARD
END:VTIMEZONE
END:VCALENDAR
