BEGIN:VCALENDAR
VERSION:2.0
PRODID:-//Plone.org//NONSGML plone.app.event//EN
X-WR-TIMEZONE:Europe/Berlin
BEGIN:VEVENT
SUMMARY:Säugetiere im Schatten der Dinosaurier
DTSTART:20250618T180000
DTEND:20250618T190000
DTSTAMP:20260426T045244Z
UID:250afe59b93c473daa0eac73796916c6@www.uni-bonn.de
CREATED:20250616T084934Z
DESCRIPTION:Vom Treibhaus ins Kühlhaus – Säugetiere im Schatten der Di
 nosaurier.\nBiodiversität im - Klima - Wandel\, die Abendvortragsreihe de
 r Alexander-Koenig-Gesellschaft. Ein Vortrag von Prof. Dr. Thomas Martin (
 Paläontologie\, Universität Bonn)\nDie Entstehung der Säugetiere und ih
 re frühe Evolution im Mesozoikum (vor 220 bis 66 Millionen Jahren) fallen
  in eine Phase weltweiten Treibhausklimas. Unter den feuchtwarmen Bedingun
 gen gedieh bis in hohe Breiten eine üppige Vegetation\, und die Pole trug
 en keine Eiskappen. Wie die heutigen Tropen zeichnete sich die damalige We
 lt durch eine hohe Biodiversität aus.
LAST-MODIFIED:20250906T040302Z
URL:https://www.uni-bonn.de/en/events/saeugetiere-im-schatten-der-dinosaur
 ier
END:VEVENT
BEGIN:VTIMEZONE
TZID:Europe/Berlin
X-LIC-LOCATION:Europe/Berlin
BEGIN:DAYLIGHT
DTSTART:20250330T030000
TZNAME:CEST
TZOFFSETFROM:+0100
TZOFFSETTO:+0200
END:DAYLIGHT
END:VTIMEZONE
END:VCALENDAR
