BEGIN:VCALENDAR
VERSION:2.0
PRODID:-//Plone.org//NONSGML plone.app.event//EN
X-WR-TIMEZONE:Europe/Berlin
BEGIN:VEVENT
SUMMARY:Russia's War on Ukraine: Transforming Transatlantic Relations
DTSTART:20240416T180000
DTEND:20240416T200000
DTSTAMP:20260424T074015Z
UID:f16ec8e2e31e407bab6b10a4f76370e7@www.uni-bonn.de
CREATED:20240412T114327Z
DESCRIPTION:North American Studies Program - Russia's War on Ukraine: Tran
 sforming Transatlantic Relations (Dr. Jana Puglierin\, European Council on
  Foreign Relations\, Berlin)\n\nRussia’s war of aggression against Ukrai
 ne has fundamentally reshaped transatlantic relations\, laying bare\nEurop
 e's reliance on the United States for security and exposing the EU's econo
 mic and military vulnerabilities. In her lecture\, Dr. Puglierin argues th
 at no matter who wins the presidential election in the US Europeans need t
 o urgently build a more balanced transatlantic relationship to be able to 
 protect their own economic and security interests.
LAST-MODIFIED:20250906T003151Z
URL:https://www.uni-bonn.de/en/events/russias-war-on-ukraine-transforming-
 transatlantic-relations-1
END:VEVENT
BEGIN:VTIMEZONE
TZID:Europe/Berlin
X-LIC-LOCATION:Europe/Berlin
BEGIN:DAYLIGHT
DTSTART:20240331T030000
TZNAME:CEST
TZOFFSETFROM:+0100
TZOFFSETTO:+0200
END:DAYLIGHT
END:VTIMEZONE
END:VCALENDAR
