BEGIN:VCALENDAR
VERSION:2.0
PRODID:-//Plone.org//NONSGML plone.app.event//EN
X-WR-TIMEZONE:Europe/Berlin
BEGIN:VEVENT
SUMMARY:Prof. Dr. Sidh Losa Mendiratta: Building Identity in Goa
DTSTART:20250414T181500
DTEND:20250414T194500
DTSTAMP:20260424T074016Z
UID:f95b4b08958441e0a0c2bc76646368ba@www.uni-bonn.de
CREATED:20250402T110938Z
DESCRIPTION:Building Identity: Architecture and Patronage in Goa During th
 e Early Modern Period: Some of the biggest and most elaborate early modern
  churches in Asia were built in the ‘Old Conquests’ region of the stat
 e of Goa (India)\, administered by the Portuguese Empire until 1961 Severa
 l religious orders built their churches convents\, and colleges within the
  city\, as most of Goa’s indigenous population was converted to Christia
 nity.\nDuring the early seventeenth century\, Goan Catholic priests began 
 striving for empowerment and recognition from the Portuguese and their Goa
 n brethren\, as they began taking over some of the parishes of Goa from th
 e missionary orders. In this presentation\, I will address the connections
  between identity\, patronage and architecture during the seventeenth and 
 eighteenth centuries in Goa\, as the elite of Goan Catholic Brahmins becam
 e increasingly empowered in the midst of a racially bigoted colonial socie
 ty.
LAST-MODIFIED:20250906T005655Z
URL:https://www.uni-bonn.de/en/events/prof-dr-sidh-losa-mendiratta-buildin
 g-identity-in-goa
END:VEVENT
BEGIN:VTIMEZONE
TZID:Europe/Berlin
X-LIC-LOCATION:Europe/Berlin
BEGIN:DAYLIGHT
DTSTART:20250330T030000
TZNAME:CEST
TZOFFSETFROM:+0100
TZOFFSETTO:+0200
END:DAYLIGHT
END:VTIMEZONE
END:VCALENDAR
