BEGIN:VCALENDAR
VERSION:2.0
PRODID:-//Plone.org//NONSGML plone.app.event//EN
X-WR-TIMEZONE:Europe/Berlin
BEGIN:VEVENT
SUMMARY:Prevention of sexualized discrimination and violence
DTSTART:20251030T090000
DTEND:20251030T170000
DTSTAMP:20260424T051613Z
UID:d28378a88f5e43a29f4f5488107ef56b@www.uni-bonn.de
CREATED:20250703T112116Z
DESCRIPTION:ON-SITE WORKSHOP FOR TEACHING STAFF This training course aims 
 to provide teaching staff with important basic information on sexualized d
 iscrimination and violence\, highlight options for action\, and offer suff
 icient opportunity for exchange and to practice conversation situations wi
 th those affected and\, if necessary\, those accused.
LAST-MODIFIED:20250906T042033Z
URL:https://www.uni-bonn.de/en/events/prevention-of-sexualized-discriminat
 ion-and-violence-1
END:VEVENT
BEGIN:VTIMEZONE
TZID:Europe/Berlin
X-LIC-LOCATION:Europe/Berlin
BEGIN:STANDARD
DTSTART:20251026T020000
TZNAME:CET
TZOFFSETFROM:+0200
TZOFFSETTO:+0100
END:STANDARD
END:VTIMEZONE
END:VCALENDAR
