BEGIN:VCALENDAR
VERSION:2.0
PRODID:-//Plone.org//NONSGML plone.app.event//EN
X-WR-TIMEZONE:Europe/Berlin
BEGIN:VEVENT
SUMMARY:Of cyborgs and transhumanism - a disability studies perspective
DTSTART:20250604T180000
DTEND:20250604T193000
DTSTAMP:20260422T200710Z
UID:83bada3a2a454da0ae5b51add9e1f989@www.uni-bonn.de
CREATED:20250414T120208Z
DESCRIPTION:Cyborgs Theories and fantasies of transhumanism are currently 
 on everyone's lips - also and increasingly in the context of efforts to pr
 omote the inclusion of people with disabilities. But to what extent can ne
 w technological possibilities be used to actually improve the living condi
 tions of people with disabilities? The lecture offers a critical perspecti
 ve from the field of Disability Studies and aims to analyze and discuss bo
 th beneficial and hindering factors of rehabilitation sciences and related
  disciplines for the inclusion of people with disabilities.
LAST-MODIFIED:20250906T004743Z
URL:https://www.uni-bonn.de/en/events/of-cyborgs-and-transhumanism-a-disab
 ility-studies-perspective
END:VEVENT
BEGIN:VTIMEZONE
TZID:Europe/Berlin
X-LIC-LOCATION:Europe/Berlin
BEGIN:DAYLIGHT
DTSTART:20250330T030000
TZNAME:CEST
TZOFFSETFROM:+0100
TZOFFSETTO:+0200
END:DAYLIGHT
END:VTIMEZONE
END:VCALENDAR
