BEGIN:VCALENDAR
VERSION:2.0
PRODID:-//Plone.org//NONSGML plone.app.event//EN
X-WR-TIMEZONE:Europe/Berlin
BEGIN:VEVENT
SUMMARY:NAS Lecture Series - American Democracy at Risk
DTSTART:20240516T160000
DTEND:20240516T180000
DTSTAMP:20260423T005818Z
UID:625a6cfcf5be4df4a6342c725644cc19@www.uni-bonn.de
CREATED:20240503T101627Z
DESCRIPTION:Bill Travis (New York City): \n\nAmerican Democracy at Risk: A
 n Artist's View\n\nAs American democracy has come increasingly under attac
 k from within\, and lies\, conspiracy theories\, and physical violence thr
 ive\, artist Bill Travis has sought to express his fear and rage as authen
 tically as he can\, through images. The photo-based pictures he has made o
 ver the past few years find inspiration in the art of Francisco Goya\, esp
 ecially his Black Paintings\, with their powerful examination of humanity'
 s dark underside. Rather than depict actual individuals\, Travis focuses o
 n emotional forces\, which is why his series deals with images of conflict
 . What's happening in the United States today is transformed into a visual
  realm that creates its own time and space.
LAST-MODIFIED:20250906T003201Z
URL:https://www.uni-bonn.de/en/events/nas-lecture-series-american-democrac
 y-at-risk
END:VEVENT
BEGIN:VTIMEZONE
TZID:Europe/Berlin
X-LIC-LOCATION:Europe/Berlin
BEGIN:DAYLIGHT
DTSTART:20240331T030000
TZNAME:CEST
TZOFFSETFROM:+0100
TZOFFSETTO:+0200
END:DAYLIGHT
END:VTIMEZONE
END:VCALENDAR
