BEGIN:VCALENDAR
VERSION:2.0
PRODID:-//Plone.org//NONSGML plone.app.event//EN
X-WR-TIMEZONE:Europe/Berlin
BEGIN:VEVENT
SUMMARY:Malewitschs Ohrfeige dem modernen Geschmack
DTSTART:20250610T190000
DTEND:20250610T210000
DTSTAMP:20260423T065421Z
UID:42730e488d144fd9b17f80264b908375@www.uni-bonn.de
CREATED:20250519T090205Z
DESCRIPTION:Vortrag Frau Dr. Naomi Smolik - Stimmt die in Westeuropa entst
 andene Erzählung von der russischen Kunst als einer von Westeuropa ausgeh
 enden auch Russland erfassenden modernen Entwicklung? Oder ist sie eher au
 s einer Auflehnung gegen das Hegemoniestreben der westlichen Moderne entst
 anden? Vieles spricht dafür\, dass die russische Kunst einer Kritik an we
 stlichen Vorstellungen wie Rationalismus\, Universalismus\, Atheismus und 
 der Auffassung der Geschichte als Fortschritt folgte. So wie sie der heute
  vergessene russische Denker Vladimir Solovjev vertrat\, der bereits vor m
 ehr als 100 Jahren vor den Gefahren eines kulturellen Kolonialismus durch 
 die Moderne warnte. Die russische Kunst schöpfte ihre Energie wesentlich 
 aus der Aufwertung der eigenen\, auf dem Lande lebendigen prämodernen Üb
 erlieferungen wie der Ikone.
LAST-MODIFIED:20250519T125701Z
URL:https://www.uni-bonn.de/en/events/malewitschs-ohrfeige-dem-modernen-ge
 schmack
END:VEVENT
BEGIN:VTIMEZONE
TZID:Europe/Berlin
X-LIC-LOCATION:Europe/Berlin
BEGIN:DAYLIGHT
DTSTART:20250330T030000
TZNAME:CEST
TZOFFSETFROM:+0100
TZOFFSETTO:+0200
END:DAYLIGHT
END:VTIMEZONE
END:VCALENDAR
