BEGIN:VCALENDAR
VERSION:2.0
PRODID:-//Plone.org//NONSGML plone.app.event//EN
X-WR-TIMEZONE:Europe/Berlin
BEGIN:VEVENT
SUMMARY:M. Lammers\,Structure-funct.anal.on bact. classical lysine deacyl.
DTSTART:20260720T171500
DTEND:20260720T183000
DTSTAMP:20260425T234755Z
UID:966088b3905947998dcacb138f109a60@www.uni-bonn.de
CREATED:20260423T114149Z
DESCRIPTION:Prof. Dr. Michael Lammers\nStructure-function analyses on bact
 erial classical lysine deacylases\nDiskussionsleitung: Prof. Dr. Matthias 
 Geyer\nPharmazeutisches Kolloquium
LAST-MODIFIED:20260423T120733Z
URL:https://www.uni-bonn.de/en/events/m-lammers-structure-funct-anal-on-ba
 ct-classical-lysine-deacyl
END:VEVENT
BEGIN:VTIMEZONE
TZID:Europe/Berlin
X-LIC-LOCATION:Europe/Berlin
BEGIN:DAYLIGHT
DTSTART:20260329T030000
TZNAME:CEST
TZOFFSETFROM:+0100
TZOFFSETTO:+0200
END:DAYLIGHT
END:VTIMEZONE
END:VCALENDAR
