BEGIN:VCALENDAR
VERSION:2.0
PRODID:-//Plone.org//NONSGML plone.app.event//EN
X-WR-TIMEZONE:Europe/Berlin
BEGIN:VEVENT
SUMMARY:Knowledge Dependencies and the Un/Making of Equitable Futures
DTSTART:20250918T083000
DTEND:20250919T180000
DTSTAMP:20260424T045001Z
UID:f23caa87b52b4ce68b9e23ef48dbb986@www.uni-bonn.de
CREATED:20250901T111712Z
DESCRIPTION:Join us ONLINE for this international hybrid conference jointl
 y organized by the BCDSS & IDOS\, in partnership with the GHL.\n\nAmid esc
 alating geopolitical instability\, authoritarian retrenchments\, and the d
 eepening securitisation of knowledge-making\, this conference critically e
 xamines how entrenched knowledge dependencies continue to shape practices 
 of future-making—and how more equitable futures might still be (re)imagi
 ned. From the weaponisation of AI to the erosion of indigenous\, activist\
 , and academic freedoms\, and the constraints of donor-driven agendas\, we
  ask: How is knowledge circulation mediated? Under what conditions have al
 ternative epistemic futures emerged—in the longue durée and within pres
 ent formations?
LAST-MODIFIED:20250901T123738Z
URL:https://www.uni-bonn.de/en/events/knowledge-dependencies-and-the-un-ma
 king-of-equitable-futures
END:VEVENT
BEGIN:VTIMEZONE
TZID:Europe/Berlin
X-LIC-LOCATION:Europe/Berlin
BEGIN:DAYLIGHT
DTSTART:20250330T030000
TZNAME:CEST
TZOFFSETFROM:+0100
TZOFFSETTO:+0200
END:DAYLIGHT
END:VTIMEZONE
END:VCALENDAR
