BEGIN:VCALENDAR
VERSION:2.0
PRODID:-//Plone.org//NONSGML plone.app.event//EN
X-WR-TIMEZONE:Europe/Berlin
BEGIN:VEVENT
SUMMARY:KI-Games Wer baut den besten Algorithmus
DTSTART;VALUE=DATE:20260330
DTEND;VALUE=DATE:20260403
DTSTAMP:20260422T050416Z
UID:146900816a914e8b9afd8cbe70a12652@www.uni-bonn.de
CREATED:20260211T150819Z
DESCRIPTION:Grundlagen der augenheilkundlichen Funktionstestung und Bildge
 bungsverfahren\nGrundlagen der Datenanalyse und -aufbereitung\nGrundlagen 
 der Künstlichen Intelligenz\nInterdisziplinäre wissenschaftliche Zusamme
 narbeit Medizin und MINT-Fächern
LAST-MODIFIED:20260225T141805Z
URL:https://www.uni-bonn.de/en/events/ki-games-wer-baut-den-besten-algorit
 hmus
END:VEVENT
END:VCALENDAR
