BEGIN:VCALENDAR
VERSION:2.0
PRODID:-//Plone.org//NONSGML plone.app.event//EN
X-WR-TIMEZONE:Europe/Berlin
BEGIN:VEVENT
SUMMARY:iStart: Coffee Talks with Experts: Quality Management
DTSTART;TZID=Europe/Berlin:20260527T170000
DTEND;TZID=Europe/Berlin:20260527T180000
DTSTAMP:20260425T161908Z
UID:fd1ed268139b4f3082245cbc81563dd3@www.uni-bonn.de
CATEGORIES:International Office,6.3,Campus International,iStart,Studierend
 e, Übergang Studium Beruf
CREATED:20260303T150541Z
DESCRIPTION:Interested in connecting with area experts and gaining insight
 s into their daily work? Join us as we invite companies to our campus to l
 earn from their experiences in a relaxed setting. This time\, an expert - 
 Junior Manager Corporate Recipe Management & Raw Materials Management - fr
 om HARIBO will visit us and share their expertise in Quality Management.\n
 \nWhat to expect:\n- Insights into real-world working with Recipe and Raw 
 Materials Management\n- Opportunity to ask questions\, learn from experien
 ced professionals and network with them\n- Understanding challenges and so
 lutions in everyday business\n\nNB! This is not a recruiting event.\n\n(iS
 tart)
LAST-MODIFIED:20260303T162600Z
URL:https://www.uni-bonn.de/en/events/istart-coffee-talks-with-experts-qua
 lity-management
END:VEVENT
BEGIN:VTIMEZONE
TZID:Europe/Berlin
X-LIC-LOCATION:Europe/Berlin
BEGIN:DAYLIGHT
DTSTART:20260329T030000
TZNAME:CEST
TZOFFSETFROM:+0100
TZOFFSETTO:+0200
END:DAYLIGHT
END:VTIMEZONE
END:VCALENDAR
