BEGIN:VCALENDAR
VERSION:2.0
PRODID:-//Plone.org//NONSGML plone.app.event//EN
X-WR-TIMEZONE:Europe/Berlin
BEGIN:VEVENT
SUMMARY:iStart: Coffee Talk with Experts: Data Business Intelligence
DTSTART;TZID=Europe/Berlin:20260128T170000
DTEND;TZID=Europe/Berlin:20260128T180000
DTSTAMP:20260420T021447Z
UID:8f83b22571e84fd99ead49cb402ded9a@www.uni-bonn.de
CATEGORIES:International Office,6.3,Campus International,iStart,Studierend
 e, Übergang Studium Beruf
CREATED:20250918T143301Z
DESCRIPTION:Interested in connecting with area experts and gaining insight
 s into their daily work? Join us as we invite companies to our campus to l
 earn from their experiences in a relaxed setting. This time\, the expert f
 rom the DHL will visit us and share her expertise in data business intelli
 gence.\n\nWhat to expect:\n- Insights into real-world working with data\n-
  Opportunity to ask questions\, learn from experienced professionals and n
 etwork with them\n- Understanding challenges and solutions in everyday bus
 iness\n\nReminder: This is not a recruiting event.
LAST-MODIFIED:20260303T164052Z
URL:https://www.uni-bonn.de/en/events/istart-coffee-talk-with-experts-data
 -business-intelligence
END:VEVENT
BEGIN:VTIMEZONE
TZID:Europe/Berlin
X-LIC-LOCATION:Europe/Berlin
BEGIN:STANDARD
DTSTART:20251026T020000
TZNAME:CET
TZOFFSETFROM:+0200
TZOFFSETTO:+0100
END:STANDARD
END:VTIMEZONE
END:VCALENDAR
