BEGIN:VCALENDAR
VERSION:2.0
PRODID:-//Plone.org//NONSGML plone.app.event//EN
X-WR-TIMEZONE:Europe/Berlin
BEGIN:VEVENT
SUMMARY:iStart: Application Café
DTSTART;TZID=Europe/Berlin:20260513T170000
DTEND;TZID=Europe/Berlin:20260513T180000
DTSTAMP:20260420T124722Z
UID:ce809ee4be224ecca35a761eca29fb4c@www.uni-bonn.de
CATEGORIES:International Office,6.3,Campus International,iStart,Studierend
 e, Übergang Studium Beruf
CREATED:20260304T105242Z
DESCRIPTION:Whether you have questions about your job search\, need guidan
 ce on your application documents\, or would like to network with other int
 ernational students\, you are warmly invited to join our iStart Applicatio
 n Café. This informal\, welcoming setting provides a space to ask questio
 ns\, share experiences\, and exchange practical tips for navigating the jo
 b market in Germany and beyond. (iStart)
LAST-MODIFIED:20260304T122020Z
URL:https://www.uni-bonn.de/en/events/istart-application-cafe-1
END:VEVENT
BEGIN:VTIMEZONE
TZID:Europe/Berlin
X-LIC-LOCATION:Europe/Berlin
BEGIN:DAYLIGHT
DTSTART:20260329T030000
TZNAME:CEST
TZOFFSETFROM:+0100
TZOFFSETTO:+0200
END:DAYLIGHT
END:VTIMEZONE
END:VCALENDAR
