BEGIN:VCALENDAR
VERSION:2.0
PRODID:-//Plone.org//NONSGML plone.app.event//EN
X-WR-TIMEZONE:Europe/Berlin
BEGIN:VEVENT
SUMMARY:Chit-Chat Lounge
DTSTART;TZID=Europe/Berlin:20260302T190000
DTEND;TZID=Europe/Berlin:20260302T220000
DTSTAMP:20260423T035749Z
UID:943364795b434f95aac640587f54d139@www.uni-bonn.de
CATEGORIES:International Office,6.3,Campus International,Internationaler C
 lub,Studierende,Promovierende
CREATED:20250624T084712Z
DESCRIPTION:We hold a Chit-Chat Lounge every Monday together with the Inte
 rnational Students Department of the General Students’ Committee (AStA).
  It gives us a relaxed atmosphere in which to meet in order to simply chat
  among ourselves for a bit and get to know one another. Free drinks are av
 ailable\, and there is no need to book. (International Club)
LAST-MODIFIED:20260217T133007Z
URL:https://www.uni-bonn.de/en/events/international-club-chit-chat-lounge-
 1
END:VEVENT
BEGIN:VTIMEZONE
TZID:Europe/Berlin
X-LIC-LOCATION:Europe/Berlin
BEGIN:STANDARD
DTSTART:20251026T020000
TZNAME:CET
TZOFFSETFROM:+0200
TZOFFSETTO:+0100
END:STANDARD
END:VTIMEZONE
END:VCALENDAR
