BEGIN:VCALENDAR
VERSION:2.0
PRODID:-//Plone.org//NONSGML plone.app.event//EN
X-WR-TIMEZONE:Europe/Berlin
BEGIN:VEVENT
SUMMARY:Infoveranstaltung Validierungsförderung VIP+
DTSTART:20250218T101500
DTEND:20250218T120000
DTSTAMP:20260422T051504Z
UID:02228d9df95d4dec826930e009b8fe24@www.uni-bonn.de
CREATED:20250203T114003Z
DESCRIPTION:Im Rahmen unserer Veranstaltungsreihe Spotlight Innovation Fun
 ding stellen wir Ihnen verschiedene transferrelevante Förderprogramme vor
 . Am 18. Februar 2025\, 10:15 Uhr\, präsentiert der Projektträger VDI/VD
 E-IT die Fördermaßnahme VIP+ und beantwortet Ihre Fragen zur Antragstell
 ung.\n\nVIP+ unterstützt Wissenschaftler*innen dabei\, das Innovationspot
 enzial von Forschungsergebnissen zu prüfen\, zu validieren und mögliche 
 Anwendungsbereiche zu erschließen. Besonders Geistes- und Sozialwissensch
 aftler sind eingeladen\, ihre Forschungsergebnisse auf Praxisfähigkeit zu
  testen.\n\nAnträge sind ganzjährig möglich! Melden Sie sich jetzt an 
 – die Zugangsdaten erhalten Sie rechtzeitig vor der Veranstaltung.
LAST-MODIFIED:20250906T033233Z
URL:https://www.uni-bonn.de/en/events/infoveranstaltung-validierungsfoerde
 rung-vip-1
END:VEVENT
BEGIN:VTIMEZONE
TZID:Europe/Berlin
X-LIC-LOCATION:Europe/Berlin
BEGIN:STANDARD
DTSTART:20241027T020000
TZNAME:CET
TZOFFSETFROM:+0200
TZOFFSETTO:+0100
END:STANDARD
END:VTIMEZONE
END:VCALENDAR
