BEGIN:VCALENDAR
VERSION:2.0
PRODID:-//Plone.org//NONSGML plone.app.event//EN
X-WR-TIMEZONE:Europe/Berlin
BEGIN:VEVENT
SUMMARY:Info Session Housing
DTSTART;TZID=Europe/Berlin:20260724T110000
DTEND;TZID=Europe/Berlin:20260724T120000
DTSTAMP:20260422T104752Z
UID:ac6ef8b7bcbf451a9c7f57d5edcdfa68@www.uni-bonn.de
CATEGORIES:International,International Office,Campus International,Welcome
  Days,Studierende,Promovierende
CREATED:20240508T060049Z
DESCRIPTION:In this event\, we will explain how and where you can look for
  accommodation for your stay in Bonn. \nWe will offer tips on how to regis
 ter for a room in a dormitory at the Studierendenwerk Bonn\, how to search
  on the private housing market and how to register in the city once you ha
 ve found accommodation. \nAfterwards\, there will be a Q&A session on the 
 topic of housing. (Welcome Days)
LAST-MODIFIED:20260223T065419Z
URL:https://www.uni-bonn.de/en/events/info-wohnraum-4
END:VEVENT
BEGIN:VTIMEZONE
TZID:Europe/Berlin
X-LIC-LOCATION:Europe/Berlin
BEGIN:DAYLIGHT
DTSTART:20260329T030000
TZNAME:CEST
TZOFFSETFROM:+0100
TZOFFSETTO:+0200
END:DAYLIGHT
END:VTIMEZONE
END:VCALENDAR
