BEGIN:VCALENDAR
VERSION:2.0
PRODID:-//Plone.org//NONSGML plone.app.event//EN
X-WR-TIMEZONE:Europe/Berlin
BEGIN:VEVENT
SUMMARY:Info Session Housing
DTSTART;TZID=Europe/Berlin:20260626T110000
DTEND;TZID=Europe/Berlin:20260626T120000
DTSTAMP:20260426T021002Z
UID:59f91baf6f40449f9ad0f31f39e4cbec@www.uni-bonn.de
CATEGORIES:International,International Office,Campus International,Welcome
  Days,Studierende,Promovierende
CREATED:20240508T061049Z
DESCRIPTION:In this event\, we will explain how and where you can look for
  accommodation for your stay in Bonn.\nWe will offer tips on how to regist
 er for a room in a dormitory at the Studierendenwerk Bonn\, how to search 
 on the private housing market and how to register in the city once you hav
 e found accommodation.\nAfterwards\, there will be a Q&A session on the to
 pic of housing. (Welcome Days)
LAST-MODIFIED:20260223T065337Z
URL:https://www.uni-bonn.de/en/events/info-wohnraum-2
END:VEVENT
BEGIN:VTIMEZONE
TZID:Europe/Berlin
X-LIC-LOCATION:Europe/Berlin
BEGIN:DAYLIGHT
DTSTART:20260329T030000
TZNAME:CEST
TZOFFSETFROM:+0100
TZOFFSETTO:+0200
END:DAYLIGHT
END:VTIMEZONE
END:VCALENDAR
