BEGIN:VCALENDAR
VERSION:2.0
PRODID:-//Plone.org//NONSGML plone.app.event//EN
X-WR-TIMEZONE:Europe/Berlin
BEGIN:VEVENT
SUMMARY:Haus der Geschichte
DTSTART;TZID=Europe/Berlin:20260425T140000
DTSTAMP:20260420T190227Z
UID:9da403c17784401693c3d8506d897b21@www.uni-bonn.de
CATEGORIES:International Office,6.3,Campus International,Internationaler C
 lub,Studierende,Promovierende
CREATED:20260320T142233Z
DESCRIPTION:We’ll visit the Haus der Geschichte together and explore the
  last 75 years of German history in a fun and engaging way. From fashion a
 nd pop culture to everyday objects and nostalgic items\, there’s a lot t
 o discover—and many interactive elements to try out. Admission is free. 
 (International Club)
LAST-MODIFIED:20260320T144554Z
URL:https://www.uni-bonn.de/en/events/haus-der-geschichte
END:VEVENT
BEGIN:VTIMEZONE
TZID:Europe/Berlin
X-LIC-LOCATION:Europe/Berlin
BEGIN:DAYLIGHT
DTSTART:20260329T030000
TZNAME:CEST
TZOFFSETFROM:+0100
TZOFFSETTO:+0200
END:DAYLIGHT
END:VTIMEZONE
END:VCALENDAR
