BEGIN:VCALENDAR
VERSION:2.0
PRODID:-//Plone.org//NONSGML plone.app.event//EN
X-WR-TIMEZONE:Europe/Berlin
BEGIN:VEVENT
SUMMARY:Gründungsstammtisch - Sweethoven Biotech
DTSTART:20240807T170000
DTEND:20240807T190000
DTSTAMP:20260423T032442Z
UID:223d4b9929f3432f97026971bc72f251@www.uni-bonn.de
CREATED:20240716T072322Z
DESCRIPTION:- Eine Reise\, die 2022 bei der SummerSchool begann -\n\nWir l
 aden alle Gründungsinteressenten herzlich zu unserem monatlichen Gründun
 gsstammtisch ein.\n\nZu Besuch haben wir heute Dr. Marcel Hövels\, der in
  der Summer School 2022 sein Promotions-Projekt zur Herstellung eines Zuck
 erersatzstoffs vorstellte\, ein Team bildete und eine phantastische Entwic
 klung startete.\n\nMit dem Gewinn des Ideenwettbewerbs der Universität Bo
 nn 2022\, einem Prototypisierungs-Grant\, der Aufnahme in den EIT Seedbed 
 Incubator 2023 und dem erfolgreichen Pitch für die DATI Pilot Förderung 
 2024 des BMBF sind nur einige der Meilensteine zu nennen. Als erstes Team 
 in den CoWorking Labs des Transfer Center enaCom konnte Sweethoven Biotech
  bei der letzten ANUGA Ihren Zuckerersatzstoff am EIT Stand vorstellen.\n\
 nACHTUNG – Wegen der Einbindung in die SUMMERSCHOOL 2024 der H-BRS & Uni
  Bonn findet der AUGUST STAMMTISCH BEREITS AM MITTWOCH 7.8. ab 17 Uhr stat
 t!
LAST-MODIFIED:20250906T003245Z
URL:https://www.uni-bonn.de/en/events/gruendungsstammtisch-sweethoven-biot
 ech
END:VEVENT
BEGIN:VTIMEZONE
TZID:Europe/Berlin
X-LIC-LOCATION:Europe/Berlin
BEGIN:DAYLIGHT
DTSTART:20240331T030000
TZNAME:CEST
TZOFFSETFROM:+0100
TZOFFSETTO:+0200
END:DAYLIGHT
END:VTIMEZONE
END:VCALENDAR
