BEGIN:VCALENDAR
VERSION:2.0
PRODID:-//Plone.org//NONSGML plone.app.event//EN
X-WR-TIMEZONE:Europe/Berlin
BEGIN:VEVENT
SUMMARY:Grendel’s Silent Mother
DTSTART:20250616T181500
DTEND:20250616T200000
DTSTAMP:20260420T160402Z
UID:e1e5c2ac8b7644edaac53560b7df8324@www.uni-bonn.de
CREATED:20250613T071458Z
DESCRIPTION:Grendel’s mother is famously silent in Beowulf\, uttering no
 t a single word of dialogue during her time in the narrative\, and the sil
 ence surrounding her begins even before her entrance and extends beyond he
 r death. Working from this collection of indirect evidence\, I argue that 
 the poem presents Grendel’s mother—and her silence—as occupying a sp
 ace between and combining men and women\, a trans space that refuses categ
 orization and reveals the fallacy of binary divisions of sex and gender.
LAST-MODIFIED:20250906T021337Z
URL:https://www.uni-bonn.de/en/events/grendels-silent-mother
END:VEVENT
BEGIN:VTIMEZONE
TZID:Europe/Berlin
X-LIC-LOCATION:Europe/Berlin
BEGIN:DAYLIGHT
DTSTART:20250330T030000
TZNAME:CEST
TZOFFSETFROM:+0100
TZOFFSETTO:+0200
END:DAYLIGHT
END:VTIMEZONE
END:VCALENDAR
