BEGIN:VCALENDAR
VERSION:2.0
PRODID:-//Plone.org//NONSGML plone.app.event//EN
X-WR-TIMEZONE:Europe/Berlin
BEGIN:VEVENT
SUMMARY:Feminist AI Lunch Break
DTSTART:20260422T130000
DTEND:20260422T140000
DTSTAMP:20260421T044037Z
UID:bc0747a58299494982c0223c160e1cc6@www.uni-bonn.de
CREATED:20260415T121005Z
DESCRIPTION:We invite all interested to our monthly networking lunch. We w
 ill meet in the Cafeteria at the Collegium Albertinum (NOTE: The Hofgarten
  Cafeteria has moved there) You can interchange with others interested in 
 AI in an informal environment.
LAST-MODIFIED:20260415T122457Z
URL:https://www.uni-bonn.de/en/events/feminist-ai-lunch-break
END:VEVENT
BEGIN:VTIMEZONE
TZID:Europe/Berlin
X-LIC-LOCATION:Europe/Berlin
BEGIN:DAYLIGHT
DTSTART:20260329T030000
TZNAME:CEST
TZOFFSETFROM:+0100
TZOFFSETTO:+0200
END:DAYLIGHT
END:VTIMEZONE
END:VCALENDAR
