BEGIN:VCALENDAR
VERSION:2.0
PRODID:-//Plone.org//NONSGML plone.app.event//EN
X-WR-TIMEZONE:Europe/Berlin
BEGIN:VEVENT
SUMMARY:Family Brunch for International Doctoral Students (canceled)
DTSTART;TZID=Europe/Berlin:20231209T110000
DTEND;TZID=Europe/Berlin:20231209T130000
DTSTAMP:20260424T053908Z
UID:32a7cdf99f6e4cdc94824b4146fa3ea9@www.uni-bonn.de
CATEGORIES:International Office,Campus International,International,Promovi
 erende
CREATED:20231117T161954Z
DESCRIPTION:International doctoral students with families are invited to a
  family christmas brunch in a cozy atmosphere at the International Club of
  the International Office. Registration is requested. (Pro-Motion)
LAST-MODIFIED:20231205T101328Z
URL:https://www.uni-bonn.de/en/events/family-brunch-for-international-doct
 oral-students
END:VEVENT
BEGIN:VTIMEZONE
TZID:Europe/Berlin
X-LIC-LOCATION:Europe/Berlin
BEGIN:STANDARD
DTSTART:20231029T020000
TZNAME:CET
TZOFFSETFROM:+0200
TZOFFSETTO:+0100
END:STANDARD
END:VTIMEZONE
END:VCALENDAR
