BEGIN:VCALENDAR
VERSION:2.0
PRODID:-//Plone.org//NONSGML plone.app.event//EN
X-WR-TIMEZONE:Europe/Berlin
BEGIN:VEVENT
SUMMARY:Dr. K. Hiesinger - From Design to Degradation
DTSTART:20260615T171500
DTEND:20260615T183000
DTSTAMP:20260425T195533Z
UID:715db3219bf74476a4394182e6c36a6b@www.uni-bonn.de
CREATED:20260423T113712Z
DESCRIPTION:Dr. Kerstin Hiesinger \nFrom Design to Degradation: Accelerati
 ng PROTAC Hit \nDiscovery with a Direct-to-Biology Approach\nDiskussionsle
 itung: Prof. Dr. Finn K. Hansen\nPharmazeutisches Kolloquium
LAST-MODIFIED:20260423T120733Z
URL:https://www.uni-bonn.de/en/events/dr-k-hiesinger-from-design-to-degrad
 ation
END:VEVENT
BEGIN:VTIMEZONE
TZID:Europe/Berlin
X-LIC-LOCATION:Europe/Berlin
BEGIN:DAYLIGHT
DTSTART:20260329T030000
TZNAME:CEST
TZOFFSETFROM:+0100
TZOFFSETTO:+0200
END:DAYLIGHT
END:VTIMEZONE
END:VCALENDAR
