BEGIN:VCALENDAR
VERSION:2.0
PRODID:-//Plone.org//NONSGML plone.app.event//EN
X-WR-TIMEZONE:Europe/Berlin
BEGIN:VEVENT
SUMMARY:Dipl. Ing. Steiner - Continuous Manufacturing
DTSTART:20260427T171500
DTEND:20260427T183000
DTSTAMP:20260426T001323Z
UID:c4773050208742279dbae8a7bc0c6043@www.uni-bonn.de
CREATED:20260423T112315Z
DESCRIPTION:Pharmazeutisches Kolloquium der Fachgruppe Pharmazie\, Lecture
  17:15-18:30\nDipl. Ing. Steiner - Continuous Manufacturing - overview\, s
 tatus of implementation and trends for the future
LAST-MODIFIED:20260423T120733Z
URL:https://www.uni-bonn.de/en/events/dipl-ing-steiner-continuous-manufact
 uring
END:VEVENT
BEGIN:VTIMEZONE
TZID:Europe/Berlin
X-LIC-LOCATION:Europe/Berlin
BEGIN:DAYLIGHT
DTSTART:20260329T030000
TZNAME:CEST
TZOFFSETFROM:+0100
TZOFFSETTO:+0200
END:DAYLIGHT
END:VTIMEZONE
END:VCALENDAR
