BEGIN:VCALENDAR
VERSION:2.0
PRODID:-//Plone.org//NONSGML plone.app.event//EN
X-WR-TIMEZONE:Europe/Berlin
BEGIN:VEVENT
SUMMARY:Child-friendly cities as a solution to urban shrinkage
DTSTART:20250521T121500
DTEND:20250521T131500
DTSTAMP:20260422T025435Z
UID:37778917a5214494babe25e7c1f71bf5@www.uni-bonn.de
CREATED:20250402T104717Z
DESCRIPTION:Child-friendly cities as a solution to urban shrinkage\n\nFurt
 her information on this lecture event will follow shortly.
LAST-MODIFIED:20250906T034055Z
URL:https://www.uni-bonn.de/en/events/child-friendly-cities-as-a-solution-
 to-urban-shrinkage
END:VEVENT
BEGIN:VTIMEZONE
TZID:Europe/Berlin
X-LIC-LOCATION:Europe/Berlin
BEGIN:DAYLIGHT
DTSTART:20250330T030000
TZNAME:CEST
TZOFFSETFROM:+0100
TZOFFSETTO:+0200
END:DAYLIGHT
END:VTIMEZONE
END:VCALENDAR
