BEGIN:VCALENDAR
VERSION:2.0
PRODID:-//Plone.org//NONSGML plone.app.event//EN
X-WR-TIMEZONE:Europe/Berlin
BEGIN:VEVENT
SUMMARY:Antike Stammtische
DTSTART:20250622T111500
DTEND:20250622T120000
DTSTAMP:20260419T214302Z
UID:1148448c040342b38c9f421abc229a6d@www.uni-bonn.de
CREATED:20250519T123122Z
DESCRIPTION:Die engagierten Studierenden der Fächer der Archäologien bie
 ten in Zusammenar-beit mit der Abteilung Klassische Archäo-logie jeden So
 nntag um 11:15 Uhr Führun-gen durch das Museum oder Vorträge mit Bildpr
 äsentation zur antiken Kultur im Semi-narraum des Hauses an. Der Treffpun
 kt ist bei der Museumskasse.\nDie Führungen werden vom Förderverein des 
 Akademischen Kunstmuseums\, dem Verein von Altertumsfreunden im Rhein-land
 e und der Bonner Universität geför-dert. Eine Anmeldung ist nicht erford
 erlich. Die Führungen sind kostenlos.
LAST-MODIFIED:20250906T022722Z
URL:https://www.uni-bonn.de/en/events/antike-stammtische
END:VEVENT
BEGIN:VTIMEZONE
TZID:Europe/Berlin
X-LIC-LOCATION:Europe/Berlin
BEGIN:DAYLIGHT
DTSTART:20250330T030000
TZNAME:CEST
TZOFFSETFROM:+0100
TZOFFSETTO:+0200
END:DAYLIGHT
END:VTIMEZONE
END:VCALENDAR
