BEGIN:VCALENDAR
VERSION:2.0
PRODID:-//Plone.org//NONSGML plone.app.event//EN
X-WR-TIMEZONE:Europe/Berlin
BEGIN:VEVENT
SUMMARY:An introduction to the Regulatory Game for Life-Science Startups
DTSTART:20251113T100000
DTEND:20251113T110000
DTSTAMP:20260424T074503Z
UID:573826589dd04f05a3c7a77417031260@www.uni-bonn.de
CREATED:20251007T094338Z
DESCRIPTION:In this talk Christian Pinnow\, partner at D+B Rechtsanwälte\
 , explains the regulatory framework for life science and health startups.\
 n\nThe focus is on the legal basis for handling patient data and samples\,
  as well as the transition from research to business startups.\n\nWhile sk
 etching out a roadmap through the various levels of regulatory fog\, topic
 s such as ethics council applications and secondary use are also addressed
  in a practical manner.\n\nFollowing the presentation\, there will be time
  for questions and discussion.
LAST-MODIFIED:20251007T100444Z
URL:https://www.uni-bonn.de/en/events/an-introduction-to-the-regulatory-ga
 me-for-life-science-startups
END:VEVENT
BEGIN:VTIMEZONE
TZID:Europe/Berlin
X-LIC-LOCATION:Europe/Berlin
BEGIN:STANDARD
DTSTART:20251026T020000
TZNAME:CET
TZOFFSETFROM:+0200
TZOFFSETTO:+0100
END:STANDARD
END:VTIMEZONE
END:VCALENDAR
