BEGIN:VCALENDAR
VERSION:2.0
PRODID:-//Plone.org//NONSGML plone.app.event//EN
X-WR-TIMEZONE:Europe/Berlin
BEGIN:VEVENT
SUMMARY:7th Round Table of the Bonn Platform for Forced Migration Studies
DTSTART:20260505T170000
DTEND:20260505T193000
DTSTAMP:20260422T040758Z
UID:8e59dc72878f476ba3a7744c32518613@www.uni-bonn.de
CREATED:20260414T063208Z
DESCRIPTION:Topic: Still a Model? Canada’s Evolving Immigration and Refu
 gee Policy\nSpeaker: Prof. Dr. Dagmar Soennecken\, York University\nDiscus
 sant: Prof. Dr. Petra Bendel\, Friedrich-Alexander-Universität Erlangen-N
 ürnberg\n\nThe Bonn Platform for Forced Migration Studies is a collaborat
 ion established in 2023 by researchers and academic managers. It brings to
 gether bicc (Bonn International Centre for Conflict Studies)\, FFVT (Force
 d Migration and Refugee Studies: Networking and Transfer)\, the University
  of Bonn\, and the Bonn Institute for Migration Research and Intercultural
  Learning (BIM e.V.)\, including its House of Diversity Migrapolis.\n\nThe
 ir aim is to bring together Bonn-based stakeholders working on issues of d
 isplacement and migration\, offering a platform for exchange\, peer learni
 ng\, and collaboration. With their interactive format\, the Roundtables en
 courage participants to bring in their own perspectives and engage in dial
 ogue.
LAST-MODIFIED:20260414T064505Z
URL:https://www.uni-bonn.de/en/events/7-runder-tisch-der-bonn-platform-for
 -forced-migration-studies
END:VEVENT
BEGIN:VTIMEZONE
TZID:Europe/Berlin
X-LIC-LOCATION:Europe/Berlin
BEGIN:DAYLIGHT
DTSTART:20260329T030000
TZNAME:CEST
TZOFFSETFROM:+0100
TZOFFSETTO:+0200
END:DAYLIGHT
END:VTIMEZONE
END:VCALENDAR
