BEGIN:VCALENDAR
VERSION:2.0
PRODID:-//Plone.org//NONSGML plone.app.event//EN
X-WR-TIMEZONE:Europe/Berlin
BEGIN:VEVENT
SUMMARY:6. Otto-Löwenstein-Symposium
DTSTART:20251129T090000
DTEND:20251129T160000
DTSTAMP:20260422T124555Z
UID:924b814a3d104e41b4ce57dfbdcc7f97@www.uni-bonn.de
CREATED:20251010T074822Z
DESCRIPTION:Zu Beginn wird Prof. Dr. Surges über aktuelle Entwicklungen a
 m Bonner Epilepsiezentrum berichten. Danach referiert Dr. Saffari vom Unik
 linikum Heidelberg über präsymptomatische Therapie bei Tuberöser Sklero
 se. PD Dr. Michael Sommerauer aus der Klinik für Parkinson\, Schlaf- und 
 Bewegungsstörungen am UKB wird über Schlafstörungen und ihre Behandlung
  sprechen. Es folgt ein Vortrag von Prof. Dr. Prof. Khatami von der Klinik
  Barmelweid/Schweiz über die komplexe Beziehung von Epilepsie und Schlaf.
 \nNachmittags wird PD Dr. Bauer von den Kliniken für Neuroradiologie und 
 Epileptologie am UKB innovative MRT-Technologien bei Epilepsien vorstellen
 . Im Anschluss gibt es einen Werkstattbericht aus der Klinik für Epilepto
 logie mit Dr. Bausch und Dr. Jordan\, die Neues über die Möglichkeiten v
 on Smartwatches\, Wearables und Co. berichten. \nAnschließend diskutieren
  wir mit Ihnen in unterhaltsamer Art lehrreiche Fälle aus dem Alltag der 
 hiesigen Kliniken.
LAST-MODIFIED:20251012T093715Z
URL:https://www.uni-bonn.de/en/events/6-otto-loewenstein-symposium
END:VEVENT
BEGIN:VTIMEZONE
TZID:Europe/Berlin
X-LIC-LOCATION:Europe/Berlin
BEGIN:STANDARD
DTSTART:20251026T020000
TZNAME:CET
TZOFFSETFROM:+0200
TZOFFSETTO:+0100
END:STANDARD
END:VTIMEZONE
END:VCALENDAR
