BEGIN:VCALENDAR
VERSION:2.0
PRODID:-//Plone.org//NONSGML plone.app.event//EN
X-WR-TIMEZONE:Europe/Berlin
BEGIN:VEVENT
SUMMARY:5. Otto Löwenstein Symposium
DTSTART:20241116T090000
DTEND:20241116T154500
DTSTAMP:20260423T045658Z
UID:c39838bded334d298e9079eea5a61859@www.uni-bonn.de
CREATED:20241011T123711Z
DESCRIPTION:Liebe Kolleginnen und Kollegen\,\nliebe Wissenschaftlerinnen u
 nd Wissenschaftler\,\nmit großer Freude dürfen wir Sie zum mittlerweile 
 fünften Otto-Löwenstein-Symposium in den Bonner Universitätsclub einlad
 en. Neben diesem kleinen Jubiläum möchten wir bei dieser Veranstaltung a
 uch Prof. Heinz Penin\, dem Gründer und ersten Direktor der Bonner Klinik
  für Epileptologie würdigen\, der im November vor 100 Jahren geboren wur
 de.\nZu seinen Ehren wird in diesem Jahr erstmals der Heinz-Penin-Preis f
 ür Epilepsieforschung verliehen. Mit diesem Preis soll jetzt und in Zukun
 ft jeweils die beste aus Bonn stammende Nachwuchswissenschaftsarbeit aus d
 en beiden Bereichen experimentelle und klinische Epilepsieforschung ausgez
 eichnet werden. Der Preis ist mit 1000 € zur persönlichen Verwendung do
 tiert. Die Preisträger werden auf dem Otto-Löwenstein-Symposium bekannt 
 gegeben und werden ihre Arbeiten in der Penin Lecture kurz vorstellen.
LAST-MODIFIED:20250906T003324Z
URL:https://www.uni-bonn.de/en/events/5-otto-loewenstein-symposium
END:VEVENT
BEGIN:VTIMEZONE
TZID:Europe/Berlin
X-LIC-LOCATION:Europe/Berlin
BEGIN:STANDARD
DTSTART:20241027T020000
TZNAME:CET
TZOFFSETFROM:+0200
TZOFFSETTO:+0100
END:STANDARD
END:VTIMEZONE
END:VCALENDAR
