BEGIN:VCALENDAR
VERSION:2.0
PRODID:-//Plone.org//NONSGML plone.app.event//EN
X-WR-TIMEZONE:Europe/Berlin
BEGIN:VEVENT
SUMMARY:Asia Evening
DTSTART;TZID=Europe/Berlin:20251104T190000
DTEND;TZID=Europe/Berlin:20251104T220000
DTSTAMP:20260423T040408Z
UID:b3ad4fa725584a529edccb7532f1a9cd@www.uni-bonn.de
CATEGORIES:Studierende,International Office,6.2,SUPA,Campus International,
 Internationaler Club,International
CREATED:20210417T163118Z
DESCRIPTION:Planning a semester abroad and would like to discuss your plan
 s with others and also hear about experiences from returning exchange stud
 ents? Keen to meet other German and international students who are interes
 ted in or are from Asia (except Israel for which we offer a separate eveni
 ng)? Then this event will be perfect for you! Besides exciting first-hand 
 reports\, we’ll also put on a small program of accompanying events packe
 d with more information and entertainment. (SUPA) (Internationaler Club)\n
 \nYou will earn five points toward the C2 component of your Certificate of
  International Competence if you take part.\n\nInterested in helping to or
 ganize the event? Then email us — you can gain 10 points toward your cer
 tificate for your contributions. (SUPA) (Internationaler Club)
LAST-MODIFIED:20250906T032333Z
URL:https://www.uni-bonn.de/en/events/20251104-asien-abend
END:VEVENT
BEGIN:VTIMEZONE
TZID:Europe/Berlin
X-LIC-LOCATION:Europe/Berlin
BEGIN:STANDARD
DTSTART:20251026T020000
TZNAME:CET
TZOFFSETFROM:+0200
TZOFFSETTO:+0100
END:STANDARD
END:VTIMEZONE
END:VCALENDAR
