BEGIN:VCALENDAR
VERSION:2.0
PRODID:-//Plone.org//NONSGML plone.app.event//EN
X-WR-TIMEZONE:Europe/Berlin
BEGIN:VEVENT
SUMMARY:Global Exchange Program
DTSTART;TZID=Europe/Berlin:20251022T160000
DTEND;TZID=Europe/Berlin:20251022T180000
DTSTAMP:20260419T220023Z
UID:4126060df6b44438bb35a718d4490ff5@www.uni-bonn.de
CATEGORIES:International Office,6.2,Campus International,SUPA,Studierende
CREATED:20210417T161713Z
DESCRIPTION:As part of its Global Exchange Programme\, the University of B
 onn offers exchange places at over 40 partner universities in 14 different
  countries. Would you like to spend time outside Europe? Then this event i
 s just right for you.\n\nThe information event will be held in German and 
 will take place via Zoom (SUPA)
LAST-MODIFIED:20251022T125037Z
URL:https://www.uni-bonn.de/en/events/20251022-infoveranstaltung-global-ex
 change-program
END:VEVENT
BEGIN:VTIMEZONE
TZID:Europe/Berlin
X-LIC-LOCATION:Europe/Berlin
BEGIN:DAYLIGHT
DTSTART:20250330T030000
TZNAME:CEST
TZOFFSETFROM:+0100
TZOFFSETTO:+0200
END:DAYLIGHT
END:VTIMEZONE
END:VCALENDAR
