BEGIN:VCALENDAR
VERSION:2.0
PRODID:-//Plone.org//NONSGML plone.app.event//EN
X-WR-TIMEZONE:Europe/Berlin
BEGIN:VEVENT
SUMMARY:Open-Door Consultation Hours Study and Internships abroad
DTSTART;TZID=Europe/Berlin:20251021T101500
DTEND;TZID=Europe/Berlin:20251021T121500
DTSTAMP:20260422T051459Z
UID:99d6788f3c9242e4b7db0c5a5b2c55d0@www.uni-bonn.de
CATEGORIES:Studierende,SUPA,International Office,Internationaler Club,Inte
 rnational,Internationales,Campus International,6.2
CREATED:20210903T133547Z
DESCRIPTION:Are you interested in studying abroad during your degree progr
 amme and would like to get an overview of your options? — As part of Int
 ernational Days 2025\, you can drop by the International Office during ope
 n-door consultation hours\, receive individual advice and enjoy some light
  refreshments. The consultations take place in person in a relaxed atmosph
 ere at the International Club and without prior registration. Come and tal
 k to us! (SUPA)
LAST-MODIFIED:20251015T120823Z
URL:https://www.uni-bonn.de/en/events/20251021-opendoor-consultation-hours
END:VEVENT
BEGIN:VTIMEZONE
TZID:Europe/Berlin
X-LIC-LOCATION:Europe/Berlin
BEGIN:DAYLIGHT
DTSTART:20250330T030000
TZNAME:CEST
TZOFFSETFROM:+0100
TZOFFSETTO:+0200
END:DAYLIGHT
END:VTIMEZONE
END:VCALENDAR
