BEGIN:VCALENDAR
VERSION:2.0
PRODID:-//Plone.org//NONSGML plone.app.event//EN
X-WR-TIMEZONE:Europe/Berlin
BEGIN:VEVENT
SUMMARY:Study and Internship Abroad
DTSTART;TZID=Europe/Berlin:20260302T140000
DTEND;TZID=Europe/Berlin:20260302T153000
DTSTAMP:20260420T015308Z
UID:9fa526a8cf61479d950dcf0726e8af23@www.uni-bonn.de
CATEGORIES:International,International Office,6.2,Campus International,SUP
 A,Studierende
CREATED:20210903T124358Z
DESCRIPTION:Why is it worthwhile to study abroad? What opportunities does 
 the University of Bonn offer me for an internship or a short stay? And wha
 t do I need to consider when planning? How can I finance my stay abroad?\n
 \nThis information event provides answers to these questions. You will rec
 eive an overview of the various programmes offered by the International Of
 fice. We will explain the difference between exchange and scholarship prog
 rammes and provide you with information on general organisational aspects 
 and application deadlines.\n\nThe event will take place in German at 2 p.m
 . via Zoom\, and you will have the opportunity to ask questions.\n\n(SUPA)
LAST-MODIFIED:20260302T094646Z
URL:https://www.uni-bonn.de/en/events/20251021-information-event-study-and
 -internship-abroad
END:VEVENT
BEGIN:VTIMEZONE
TZID:Europe/Berlin
X-LIC-LOCATION:Europe/Berlin
BEGIN:STANDARD
DTSTART:20251026T020000
TZNAME:CET
TZOFFSETFROM:+0200
TZOFFSETTO:+0100
END:STANDARD
END:VTIMEZONE
END:VCALENDAR
