BEGIN:VCALENDAR
VERSION:2.0
PRODID:-//Plone.org//NONSGML plone.app.event//EN
X-WR-TIMEZONE:Europe/Berlin
BEGIN:VEVENT
SUMMARY:Zu Gestaltungen von Teilverkäufen
DTSTART;TZID=Europe/Berlin:20220429T140000
DTEND:20220329T150000
DTSTAMP:20260424T075923Z
UID:836c42e01533454bbf9973db6d01eeed@www.uni-bonn.de
CREATED:20220329T134003Z
DESCRIPTION:Am Donnerstag\, den 19.05.2022\, halten Notar Dr. Leif Böttch
 er\, LL.M. (Miami) und Prof. Dr. Christian Heinze (Universität Heidelberg
 )  um 19 Uhr s.t. einen Vortrag zur Immobilienverrentung\, genauer zur Ges
 taltungen von Teilverkäufen. \n\nDie Veranstaltung wird als Hybridveranst
 altung (vor Ort und über Zoom) durchgeführt. Um Anmeldung an notarrecht@
 uni-bonn.de wird gebeten.
LAST-MODIFIED:20221130T101619Z
URL:https://www.uni-bonn.de/de/veranstaltungen/zu-gestaltungen-von-teilver
 kaeufen
END:VEVENT
BEGIN:VTIMEZONE
TZID:Europe/Berlin
X-LIC-LOCATION:Europe/Berlin
BEGIN:DAYLIGHT
DTSTART:20220327T030000
TZNAME:CEST
TZOFFSETFROM:+0100
TZOFFSETTO:+0200
END:DAYLIGHT
END:VTIMEZONE
END:VCALENDAR
