BEGIN:VCALENDAR
VERSION:2.0
PRODID:-//Plone.org//NONSGML plone.app.event//EN
X-WR-TIMEZONE:Europe/Berlin
BEGIN:VEVENT
SUMMARY:Workshop mit Homi K. Bhabha
DTSTART:20241017T140000
DTEND:20241017T160000
DTSTAMP:20260425T143959Z
UID:3fc97e619f5f4053839bf6bfd1857cb6@www.uni-bonn.de
CREATED:20241002T145848Z
DESCRIPTION:Thema: Third Space Turns 30: Revisit. Reflect. React?\n\nDas v
 on Homi Bhabha im Jahr 1994 veröffentlichte Buch „The Location of Cultu
 re“ gehört zu jenen Werken\, die einen Paradigmenwechsel innerhalb der 
 Geisteswissenschaften evozierten. Bis heute hat das Buch nichts von seiner
  Aktualität eingebüßt\, etwa bezüglich der Unterscheidung zwischen kul
 tureller Diversität und kultureller Differenz. Gleichzeitig beinhaltet 
 „The Location of Culture“ als Sammlung von elf zentralen Aufsätzen ab
 er auch Verschiebungen bzw. Differenzen zur aktuellen Debatte\, wenn z. B.
  an den zentralen Begriff der „Hybridität“ gedacht wird. Vertreter:in
 nen aus ganz unterschiedlichen Disziplinen\, Forschungsgruppen und Cluster
 n der Universität Bonn werden die Möglichkeit haben\, in Gesprächsgrupp
 en mit H. Bhabha über alte und neue Impulse des Standardwerks zu diskutie
 ren.
LAST-MODIFIED:20250906T040333Z
URL:https://www.uni-bonn.de/de/veranstaltungen/workshop-mit-homi-k-bhabha
END:VEVENT
BEGIN:VTIMEZONE
TZID:Europe/Berlin
X-LIC-LOCATION:Europe/Berlin
BEGIN:DAYLIGHT
DTSTART:20240331T030000
TZNAME:CEST
TZOFFSETFROM:+0100
TZOFFSETTO:+0200
END:DAYLIGHT
END:VTIMEZONE
END:VCALENDAR
