BEGIN:VCALENDAR
VERSION:2.0
PRODID:-//Plone.org//NONSGML plone.app.event//EN
X-WR-TIMEZONE:Europe/Berlin
BEGIN:VEVENT
SUMMARY:Women Entrepreneurs in Science: Let's Explore
DTSTART:20230720T160000
DTEND:20230720T180000
DTSTAMP:20260424T073821Z
UID:fca01140cfdb4c11b6d2440db3461857@www.uni-bonn.de
CREATED:20230607T092830Z
DESCRIPTION:- Diskussion und Netzwerken zum Thema "Gründen neben Beruf bz
 w. Studium" -\n\nSehr erfolgreiche Gründerinnen stellen Euch ihre Wege in
  die Gründung neben dem Beruf bzw. Studium vor: Dr. Vivien Karl ist Alumn
 a der Uni Bonn (Pharmazie) und hat 2021 ihr eigenes Unternehmen gegründet
 : DR. VIVIEN KARL vertreibt wissenschaftsbasierte Intimpflegeprodukte für
  Frauen. Erst kürzlich warb sie eine Finanzierung von 1\,5 Mio € ein.\n
 \nNeben den Gründerinnen gibt es einen Input zu rechtlichen Fragen bei ne
 benberuflicher Gründung. Im Anschluss habt Ihr viel Gelegenheit\, alle Eu
 re Fragen an die Expertinnen aus der Praxis zu stellen.\n\n„Let’s Expl
 ore“ ist eine Veranstaltungsreihe\, die mit der Initiative „Women Entr
 epreneurs in Science“ (WES) angeboten wird. Gründungsrelevante Themen w
 erden durch Impulse von Gründungsexpertinnen vorgestellt. Dabei kannst Du
  z.B. inspirierende Gründerinnen kennenlernen\, deine Gründungsidee entw
 ickeln oder deine*n Mitgründer*in finden.
LAST-MODIFIED:20250906T011705Z
URL:https://www.uni-bonn.de/de/veranstaltungen/women-entrepreneurs-in-scie
 nce-lets-explore
END:VEVENT
BEGIN:VTIMEZONE
TZID:Europe/Berlin
X-LIC-LOCATION:Europe/Berlin
BEGIN:DAYLIGHT
DTSTART:20230326T030000
TZNAME:CEST
TZOFFSETFROM:+0100
TZOFFSETTO:+0200
END:DAYLIGHT
END:VTIMEZONE
END:VCALENDAR
