BEGIN:VCALENDAR
VERSION:2.0
PRODID:-//Plone.org//NONSGML plone.app.event//EN
X-WR-TIMEZONE:Europe/Berlin
BEGIN:VEVENT
SUMMARY:Wir sind das Anthroprozän
DTSTART;VALUE=DATE:20251127
DTEND;VALUE=DATE:20260201
DTSTAMP:20260423T073743Z
UID:17ba6c97256b4439b9adcf64d067e861@www.uni-bonn.de
CREATED:20251209T162020Z
DESCRIPTION:Heute ist kein Ort der Welt mehr unberührt vom Menschen. Der 
 menschengemachte Wandel geht weit über Klimawandel hinaus. Er betrifft au
 ch Böden\, Meere\, Pflanzen\, Tiere und geochemische Stoffkreisläufe. Wi
 r Menschen sind zu einem maßgeblichen geologischen Faktor geworden. Desha
 lb spricht man vom neuen Erdzeitalter des Menschen\, dem „Anthropozän
 “. Dieses neue Erdzeitalter begann nach jetzigem Forschungsstand Mitte d
 es zwanzigsten Jahrhunderts.\n\nDer Ethnologe und Geologe Christoph Antwei
 ler vom Institut für Orient- und Asienwissenschaften (IOA) der Universit
 ät Bonn zeigt anhand von Fotografien und ausgewählten Objekten Ursachen 
 und Folgen dieser problematischen Entwicklung. Der Begriff Anthropozän br
 ingt eine Vielfachkrise und die daraus resultierenden Verunsicherungen und
  Ängste auf den Punkt. Trotz apokalyptischer Aussichten gibt es aber auch
  Hoffnungen.\n\nDie Ausstellung ist Mittwochs bis Sonntags von 12:00 bis 1
 7:00 Uhr geöffnet. Gruppenführungen können auf Anfrage gebucht werden.
LAST-MODIFIED:20251209T195159Z
URL:https://www.uni-bonn.de/de/veranstaltungen/wir-sind-das-anthroprozaen
END:VEVENT
END:VCALENDAR
