BEGIN:VCALENDAR
VERSION:2.0
PRODID:-//Plone.org//NONSGML plone.app.event//EN
X-WR-TIMEZONE:Europe/Berlin
BEGIN:VEVENT
SUMMARY:What do they want from me?
DTSTART:20230628T123000
DTEND:20230628T124500
DTSTAMP:20260423T072336Z
UID:82497865659c4bcd96a0ae0ba2464975@www.uni-bonn.de
CREATED:20230315T143350Z
DESCRIPTION:Research Data Management requirements from third-party funders
 \n\nMost international funding organisations (research councils\, trusts a
 nd funds) have established research data management guidelines which speci
 fy how to handle and manage research data. The general expectation is that
  research data derived from publicly funded projects are a public good and
  therefore should be made available to the public with as few limitations 
 as possible. In this presentation we will explain the most important requi
 rements from third-party funders.\n\nThe Open Access & Research Data Servi
 ce Centers are continuing the Open Science Coffee Lectures in the summer s
 emester 2023. Speaker: Christian Bittner\, ULB
LAST-MODIFIED:20250906T011451Z
URL:https://www.uni-bonn.de/de/veranstaltungen/what-do-they-want-from-me
END:VEVENT
BEGIN:VTIMEZONE
TZID:Europe/Berlin
X-LIC-LOCATION:Europe/Berlin
BEGIN:DAYLIGHT
DTSTART:20230326T030000
TZNAME:CEST
TZOFFSETFROM:+0100
TZOFFSETTO:+0200
END:DAYLIGHT
END:VTIMEZONE
END:VCALENDAR
